BEGIN:VCALENDAR
VERSION:2.0
PRODID:icalendar-ruby
CALSCALE:GREGORIAN
METHOD:PUBLISH
BEGIN:VEVENT
DTSTAMP:20260424T015949Z
UID:54-523291@mission-72.com
DTSTART:20260614T140000Z
DTEND:20260614T160000Z
CLASS:PUBLIC
CREATED:20260422T134019
DESCRIPTION:
LAST-MODIFIED:20260422T134019
LOCATION:
SUMMARY:Baby Dedication
URL;VALUE=URI:https://mission-72.com/events/baby-dedication/2026-06-14
END:VEVENT
END:VCALENDAR
