BEGIN:VCALENDAR
VERSION:2.0
PRODID:icalendar-ruby
CALSCALE:GREGORIAN
METHOD:PUBLISH
BEGIN:VEVENT
DTSTAMP:20260422T193648Z
UID:53-522955@mission-72.com
DTSTART:20260428T190000Z
DTEND:20260428T203000Z
CLASS:PUBLIC
CREATED:20260422T115116
DESCRIPTION:We will be preparing the garden beds for planting. Bring garden
  gloves\, garden rakes\, a hoe or a shovel if you have those and want to u
 se them.\nContact Esther Diener with questions.
LAST-MODIFIED:20260422T115116
LOCATION:
SUMMARY:Garden Work at M72
URL;VALUE=URI:https://mission-72.com/events/garden-work-at-m72/2026-04-28
ATTACH;FILENAME=Event-Garden-work-at-M72.jpg;FMTTYPE=image/jpeg:https://dq5
 pwpg1q8ru0.cloudfront.net/2026/04/22/15/51/16/9204289f-3b3b-4fae-9e0d-8f18
 608442a8/Event-Garden-work-at-M72.jpg
END:VEVENT
END:VCALENDAR
