BEGIN:VCALENDAR
VERSION:2.0
PRODID:icalendar-ruby
CALSCALE:GREGORIAN
METHOD:PUBLISH
BEGIN:VEVENT
DTSTAMP:20260422T193100Z
UID:29-522973@mission-72.com
DTSTART:20260520T223000Z
DTEND:20260521T000000Z
CLASS:PUBLIC
CREATED:20260422T115848
DESCRIPTION:The meetings are being recorded\, so if you were unable to atte
 nd one of them\, please see Cindy Schrock or Pastor James. They will then 
 send you a link to that video.
LAST-MODIFIED:20260422T115848
LOCATION:
SUMMARY:Prophetic Council Team (PCT) Meeting
URL;VALUE=URI:https://mission-72.com/events/prophetic-council-team-pct-meet
 ing/2026-05-20
END:VEVENT
END:VCALENDAR
