BEGIN:VCALENDAR
VERSION:2.0
PRODID:icalendar-ruby
CALSCALE:GREGORIAN
METHOD:PUBLISH
BEGIN:VEVENT
DTSTAMP:20260422T204817Z
UID:29-522974@mission-72.com
DTSTART:20260617T223000Z
DTEND:20260618T000000Z
CLASS:PUBLIC
CREATED:20260422T115848
DESCRIPTION:The meetings are being recorded\, so if you were unable to atte
 nd one of them\, please see Cindy Schrock or Pastor James. They will then 
 send you a link to that video.
LAST-MODIFIED:20260422T115848
LOCATION:
SUMMARY:Prophetic Council Team (PCT) Meeting
URL;VALUE=URI:https://mission-72.com/events/prophetic-council-team-pct-meet
 ing/2026-06-17
END:VEVENT
END:VCALENDAR
